BEGIN:VCALENDAR
VERSION:2.0
PRODID:-//eventon.com NONSGML v1.0//EN
BEGIN:VEVENT
UID:69e73a661896e
DTSTAMP:20260421T045046
DTSTART:20230710T200000Z
DTEND:20230711T040000Z
TZID:Pacific/Midway
LOCATION:
SUMMARY:Summer High School Scholars Program-Day One
DESCRIPTION: Learn more about the SHSS program here.\nhttps://www.ftc.edu/events/summer-high-school-scholars-program-starts/
URL:https://www.ftc.edu/events/summer-high-school-scholars-program-starts/
END:VEVENT
END:VCALENDAR